BEGIN:VCALENDAR
VERSION:2.0
CALSCALE:GREGORIAN
PRODID:-//Diputació de Barcelona//DibaCMS//EN
BEGIN:VEVENT
UID:4001
DTSTAMP:20260420T231418
DTSTART:20240809T200000
DTEND:20240810T000000
SUMMARY:Tractorfest 
LOCATION:
METHOD:PUBLISH
X-WR-CALNAME:st.llorensh@ajhortons.cat
X-WR-TIMEZONE:Europe/Madrid
DESCRIPTION: 

 

URI:https://www.ajhortons.cat/actualitat/agenda/tractorfest-.html
CLASS:PUBLIC
END:VEVENT
END:VCALENDAR
