BEGIN:VCALENDAR
VERSION:2.0
CALSCALE:GREGORIAN
PRODID:-//Diputació de Barcelona//DibaCMS//EN
BEGIN:VEVENT
UID:4006
DTSTAMP:20260421T010506
DTSTART:20240809T000000
DTEND:20240810T020000
SUMMARY:Concert de Venenoenlapiel
LOCATION:Plaça Referèndum U d'octubre 
METHOD:PUBLISH
X-WR-CALNAME:st.llorensh@ajhortons.cat
X-WR-TIMEZONE:Europe/Madrid
DESCRIPTION:Actes Festa Major 2024

URI:https://www.ajhortons.cat/actualitat/agenda/concert-de-venenoenlapiel.html
CLASS:PUBLIC
END:VEVENT
END:VCALENDAR
