BEGIN:VCALENDAR
VERSION:2.0
CALSCALE:GREGORIAN
PRODID:-//Diputació de Barcelona//DibaCMS//EN
BEGIN:VEVENT
UID:4009
DTSTAMP:20260420T232209
DTSTART:20240810T120000
DTEND:20240810T130000
SUMMARY:Missa Solemne  
LOCATION:Església de Sant LLorenç d'Hortons 
METHOD:PUBLISH
X-WR-CALNAME:st.llorensh@ajhortons.cat
X-WR-TIMEZONE:Europe/Madrid
DESCRIPTION:Actes Festa Major 2023

URI:https://www.ajhortons.cat/actualitat/agenda/4009-missa-solemne-.html
CLASS:PUBLIC
END:VEVENT
END:VCALENDAR
