BEGIN:VCALENDAR
VERSION:2.0
CALSCALE:GREGORIAN
PRODID:-//Diputació de Barcelona//DibaCMS//EN
BEGIN:VEVENT
UID:4010
DTSTAMP:20260421T010354
DTSTART:20240810T130000
DTEND:20240810T140000
SUMMARY:Ball del Entremesos
LOCATION:Plaça de la Rectoría 08791 Sant Llorenç d'Hortons
METHOD:PUBLISH
X-WR-CALNAME:st.llorensh@ajhortons.cat
X-WR-TIMEZONE:Europe/Madrid
DESCRIPTION:Actes Festa Major 2024

URI:https://www.ajhortons.cat/actualitat/agenda/ball-del-entremesos.html
CLASS:PUBLIC
END:VEVENT
END:VCALENDAR
