BEGIN:VCALENDAR
VERSION:2.0
CALSCALE:GREGORIAN
PRODID:-//Diputació de Barcelona//DibaCMS//EN
BEGIN:VEVENT
UID:4011
DTSTAMP:20260421T025023
DTSTART:20240811T030000
DTEND:20240811T060000
SUMMARY:Dj Pitu Rojano 
LOCATION:
METHOD:PUBLISH
X-WR-CALNAME:st.llorensh@ajhortons.cat
X-WR-TIMEZONE:Europe/Madrid
DESCRIPTION:Actes Festa Major 2024

URI:https://www.ajhortons.cat/actualitat/agenda/dj-pitu-rojano-.html
CLASS:PUBLIC
END:VEVENT
END:VCALENDAR
