BEGIN:VCALENDAR
VERSION:2.0
CALSCALE:GREGORIAN
PRODID:-//Diputació de Barcelona//DibaCMS//EN
BEGIN:VEVENT
UID:4012
DTSTAMP:20260421T010427
DTSTART:20240811T100000
DTEND:20240811T130000
SUMMARY:Taller de circ 
LOCATION:Major, 47 08791 Sant Llorenç d'Hortons
METHOD:PUBLISH
X-WR-CALNAME:st.llorensh@ajhortons.cat
X-WR-TIMEZONE:Europe/Madrid
DESCRIPTION:Actes Festa Major  2024

URI:https://www.ajhortons.cat/actualitat/agenda/taller-de-circ-.html
CLASS:PUBLIC
END:VEVENT
END:VCALENDAR
