BEGIN:VCALENDAR
VERSION:2.0
CALSCALE:GREGORIAN
PRODID:-//Diputació de Barcelona//DibaCMS//EN
BEGIN:VEVENT
UID:4014
DTSTAMP:20260421T025335
DTSTART:20240807T183000
DTEND:20240807T193000
SUMMARY:PLE ORDINARI 07/08/2024  
LOCATION:Major, 36 08791 Sant Llorenç d'Hortons
METHOD:PUBLISH
X-WR-CALNAME:st.llorensh@ajhortons.cat
X-WR-TIMEZONE:Europe/Madrid
DESCRIPTION:
URI:https://www.ajhortons.cat/actualitat/agenda/ple-ordinari-07082024-.html
CLASS:PUBLIC
END:VEVENT
END:VCALENDAR
