BEGIN:VCALENDAR
VERSION:2.0
CALSCALE:GREGORIAN
PRODID:-//Diputació de Barcelona//DibaCMS//EN
BEGIN:VEVENT
UID:4024
DTSTAMP:20260421T022825
DTSTART:20241211T200000
DTEND:20241211T213000
SUMMARY:Club de lectura 
LOCATION:
METHOD:PUBLISH
X-WR-CALNAME:st.llorensh@ajhortons.cat
X-WR-TIMEZONE:Europe/Madrid
DESCRIPTION:
URI:https://www.ajhortons.cat/actualitat/agenda/4024-club-de-lectura-.html
CLASS:PUBLIC
END:VEVENT
END:VCALENDAR
