BEGIN:VCALENDAR
VERSION:2.0
CALSCALE:GREGORIAN
PRODID:-//Diputació de Barcelona//DibaCMS//EN
BEGIN:VEVENT
UID:4028
DTSTAMP:20260421T024901
DTSTART:20241002T180000
DTEND:20241002T200000
SUMMARY:XERRADA: COM PUC FER EL DIA A DA MÉS ACCESSIBLE AMB AJUDES TÈCNIQUES.
LOCATION: Carrer - Diputació 27 - 08791 Sant Llorenç d'Hortons - Barcelona (Catalunya) 08791 Sant Llorenç d'Hortons
METHOD:PUBLISH
X-WR-CALNAME:st.llorensh@ajhortons.cat
X-WR-TIMEZONE:Europe/Madrid
DESCRIPTION:Acte dintre dels actes de Dia Mundial de l'Alzheimer 2024

URI:https://www.ajhortons.cat/actualitat/agenda/xerrada-com-puc-fer-el-dia-a-da-mes-accessible-amb-ajudes-tecniques.html
CLASS:PUBLIC
END:VEVENT
END:VCALENDAR
