BEGIN:VCALENDAR
VERSION:2.0
CALSCALE:GREGORIAN
PRODID:-//Diputació de Barcelona//DibaCMS//EN
BEGIN:VEVENT
UID:4029
DTSTAMP:20260421T010221
DTSTART:20241010T180000
DTEND:20241010T200000
SUMMARY:XERRADA: UNA BONA ALIMENTACIÓ EN LA PREVENCIÓ DE L'ALZHEIMER
LOCATION: Carrer - Diputació 27 - 08791 Sant Llorenç d'Hortons - Barcelona (Catalunya) 08791 Sant Llorenç d'Hortons
METHOD:PUBLISH
X-WR-CALNAME:st.llorensh@ajhortons.cat
X-WR-TIMEZONE:Europe/Madrid
DESCRIPTION:Acte dintre dels actes de Dia Mundial de l'Alzheimer 2024

URI:https://www.ajhortons.cat/actualitat/agenda/xerrada-una-bona-alimentacio-en-la-prevencio-de-lalzheimer.html
CLASS:PUBLIC
END:VEVENT
END:VCALENDAR
