BEGIN:VCALENDAR
VERSION:2.0
CALSCALE:GREGORIAN
PRODID:-//Diputació de Barcelona//DibaCMS//EN
BEGIN:VEVENT
UID:4032
DTSTAMP:20260421T010042
DTSTART:20240918T183000
DTEND:20240918T193000
SUMMARY: Ple Extraordinari i Urgent 
LOCATION:Major, 36 08791 Sant Llorenç d'Hortons
METHOD:PUBLISH
X-WR-CALNAME:st.llorensh@ajhortons.cat
X-WR-TIMEZONE:Europe/Madrid
DESCRIPTION:
URI:https://www.ajhortons.cat/actualitat/agenda/-ple-extraordinari-i-urgent-.html
CLASS:PUBLIC
END:VEVENT
END:VCALENDAR
