BEGIN:VCALENDAR
VERSION:2.0
CALSCALE:GREGORIAN
PRODID:-//Diputació de Barcelona//DibaCMS//EN
BEGIN:VEVENT
UID:4045
DTSTAMP:20260421T011555
DTSTART:20241017T000000
DTEND:20241019T235900
SUMMARY:Dia internacional contra el càncer de mama 
LOCATION:Major, 36 08791 Sant Llorenç d'Hortons
METHOD:PUBLISH
X-WR-CALNAME:st.llorensh@ajhortons.cat
X-WR-TIMEZONE:Europe/Madrid
DESCRIPTION:Amb motiu de la commemoració del Dia Mundial Contra el Càncer de Mama, el dia 19 d'octubre s'il·luminarà la façana de l'Ajuntament de color rosa.
 

URI:https://www.ajhortons.cat/actualitat/agenda/dia-internacional-contra-el-cancer-de-mama-.html
CLASS:PUBLIC
END:VEVENT
END:VCALENDAR
