BEGIN:VCALENDAR
VERSION:2.0
CALSCALE:GREGORIAN
PRODID:-//Diputació de Barcelona//DibaCMS//EN
BEGIN:VEVENT
UID:4055
DTSTAMP:20260421T013322
DTSTART:20241111T080000
DTEND:20241114T103000
SUMMARY:Tramitació de DNI  
LOCATION:
METHOD:PUBLISH
X-WR-CALNAME:st.llorensh@ajhortons.cat
X-WR-TIMEZONE:Europe/Madrid
DESCRIPTION:Podeu demanar cita trucant a l'ajuntament

URI:https://www.ajhortons.cat/actualitat/agenda/4055-tramitacio-de-dni-.html
CLASS:PUBLIC
END:VEVENT
END:VCALENDAR
