BEGIN:VCALENDAR
VERSION:2.0
CALSCALE:GREGORIAN
PRODID:-//Diputació de Barcelona//DibaCMS//EN
BEGIN:VEVENT
UID:4057
DTSTAMP:20260421T014159
DTSTART:20241122T173000
DTEND:20241122T183000
SUMMARY:ACTIVITAT CANCEL·LADA / A un clic Prevenció de les violències masclistes digitals. 
LOCATION:
METHOD:PUBLISH
X-WR-CALNAME:st.llorensh@ajhortons.cat
X-WR-TIMEZONE:Europe/Madrid
DESCRIPTION:L'activitat de Prevenció de Violències Masclistes Digitals queda cancel·lada per manca d'inscrits.

URI:https://www.ajhortons.cat/actualitat/agenda/activitat-cancellada--a-un-clic-prevencio-de-les-violencies-masclistes-digitals-.html
CLASS:PUBLIC
END:VEVENT
END:VCALENDAR
