BEGIN:VCALENDAR
VERSION:2.0
CALSCALE:GREGORIAN
PRODID:-//Diputació de Barcelona//DibaCMS//EN
BEGIN:VEVENT
UID:4059
DTSTAMP:20260421T014533
DTSTART:20241114T000000
DTEND:20241115T010000
SUMMARY:Dia Mundial de la Diabetis
LOCATION:
METHOD:PUBLISH
X-WR-CALNAME:st.llorensh@ajhortons.cat
X-WR-TIMEZONE:Europe/Madrid
DESCRIPTION:
URI:https://www.ajhortons.cat/actualitat/agenda/dia-mundial-de-la-diabetis.html
CLASS:PUBLIC
END:VEVENT
END:VCALENDAR
