BEGIN:VCALENDAR
VERSION:2.0
CALSCALE:GREGORIAN
PRODID:-//Diputació de Barcelona//DibaCMS//EN
BEGIN:VEVENT
UID:4060
DTSTAMP:20260421T042230
DTSTART:20241210T130500
DTEND:20241210T140500
SUMMARY:Banca mòbil: Caixa Enginyers 
LOCATION:Carrer Generalitat,47 
METHOD:PUBLISH
X-WR-CALNAME:st.llorensh@ajhortons.cat
X-WR-TIMEZONE:Europe/Madrid
DESCRIPTION:
URI:https://www.ajhortons.cat/actualitat/agenda/banca-mobil-caixa-enginyers-.html
CLASS:PUBLIC
END:VEVENT
END:VCALENDAR
