BEGIN:VCALENDAR
VERSION:2.0
CALSCALE:GREGORIAN
PRODID:-//Diputació de Barcelona//DibaCMS//EN
BEGIN:VEVENT
UID:4061
DTSTAMP:20260421T022157
DTSTART:20241230T084500
DTEND:20241230T103000
SUMMARY:Banca mòbil: CaixaBank
LOCATION:Carrer Generalitat,47 
METHOD:PUBLISH
X-WR-CALNAME:st.llorensh@ajhortons.cat
X-WR-TIMEZONE:Europe/Madrid
DESCRIPTION:
URI:https://www.ajhortons.cat/actualitat/agenda/banca-mobil-caixabank.html
CLASS:PUBLIC
END:VEVENT
END:VCALENDAR
