BEGIN:VCALENDAR
VERSION:2.0
CALSCALE:GREGORIAN
PRODID:-//Diputació de Barcelona//DibaCMS//EN
BEGIN:VEVENT
UID:4069
DTSTAMP:20260421T031605
DTSTART:20241101T000000
DTEND:20241102T000000
SUMMARY:Dia Mundial de la Sida
LOCATION:
METHOD:PUBLISH
X-WR-CALNAME:st.llorensh@ajhortons.cat
X-WR-TIMEZONE:Europe/Madrid
DESCRIPTION:
URI:https://www.ajhortons.cat/actualitat/agenda/4069-dia-mundial-de-la-sida.html
CLASS:PUBLIC
END:VEVENT
END:VCALENDAR
