BEGIN:VCALENDAR
VERSION:2.0
CALSCALE:GREGORIAN
PRODID:-//Diputació de Barcelona//DibaCMS//EN
BEGIN:VEVENT
UID:4070
DTSTAMP:20260421T022116
DTSTART:20241203T000000
DTEND:20241204T235900
SUMMARY:Dia Internacional de les Persones amb Discapacitat 
LOCATION:Major, 36 08791 Sant Llorenç d'Hortons
METHOD:PUBLISH
X-WR-CALNAME:st.llorensh@ajhortons.cat
X-WR-TIMEZONE:Europe/Madrid
DESCRIPTION:Avui Dia Mundial de les Persones amb Discapacitat la façana de l'Ajuntament romandrà il·luminada de color taronja per sumar-se a la iniciativa.

URI:https://www.ajhortons.cat/actualitat/agenda/dia-internacional-de-les-persones-amb-discapacitat-.html
CLASS:PUBLIC
END:VEVENT
END:VCALENDAR
