BEGIN:VCALENDAR
VERSION:2.0
CALSCALE:GREGORIAN
PRODID:-//Diputació de Barcelona//DibaCMS//EN
BEGIN:VEVENT
UID:4074
DTSTAMP:20260421T042843
DTSTART:20241212T110000
DTEND:20241212T130000
SUMMARY:Activitat del Casal de la Gent Gran : Prevenció  i actuació en cas d'incendi 
LOCATION:
METHOD:PUBLISH
X-WR-CALNAME:st.llorensh@ajhortons.cat
X-WR-TIMEZONE:Europe/Madrid
DESCRIPTION:
URI:https://www.ajhortons.cat/actualitat/agenda/activitat-del-casal-de-la-gent-gran--prevencio-i-actuacio-en-cas-dincendi-.html
CLASS:PUBLIC
END:VEVENT
END:VCALENDAR
