BEGIN:VCALENDAR
VERSION:2.0
CALSCALE:GREGORIAN
PRODID:-//Diputació de Barcelona//DibaCMS//EN
BEGIN:VEVENT
UID:4077
DTSTAMP:20260421T023115
DTSTART:20241219T170000
DTEND:20241219T200000
SUMMARY:Activitat del Casal de la Gent Gran : Bingo de Nadal 
LOCATION:
METHOD:PUBLISH
X-WR-CALNAME:st.llorensh@ajhortons.cat
X-WR-TIMEZONE:Europe/Madrid
DESCRIPTION:
URI:https://www.ajhortons.cat/actualitat/agenda/activitat-del-casal-de-la-gent-gran--bingo-de-nadal-.html
CLASS:PUBLIC
END:VEVENT
END:VCALENDAR
