BEGIN:VCALENDAR
VERSION:2.0
CALSCALE:GREGORIAN
PRODID:-//Diputació de Barcelona//DibaCMS//EN
BEGIN:VEVENT
UID:4080
DTSTAMP:20260421T023305
DTSTART:20241222T123000
DTEND:20241222T143000
SUMMARY:Cagar el tió a la Sala de Sant Joan Samora 
LOCATION:Major, 27 08791 Sant Llorenç d'Hortons
METHOD:PUBLISH
X-WR-CALNAME:st.llorensh@ajhortons.cat
X-WR-TIMEZONE:Europe/Madrid
DESCRIPTION:
URI:https://www.ajhortons.cat/actualitat/agenda/cagar-el-tio-a-la-sala-de-sant-joan-samora-.html
CLASS:PUBLIC
END:VEVENT
END:VCALENDAR
