BEGIN:VCALENDAR
VERSION:2.0
CALSCALE:GREGORIAN
PRODID:-//Diputació de Barcelona//DibaCMS//EN
BEGIN:VEVENT
UID:4084
DTSTAMP:20260421T042037
DTSTART:20250121T083000
DTEND:20250121T103000
SUMMARY:Tramitació de DNI
LOCATION:
METHOD:PUBLISH
X-WR-CALNAME:st.llorensh@ajhortons.cat
X-WR-TIMEZONE:Europe/Madrid
DESCRIPTION:Podeu demanar cita trucant a l'ajuntament

URI:https://www.ajhortons.cat/actualitat/agenda/4084-tramitacio-de-dni.html
CLASS:PUBLIC
END:VEVENT
END:VCALENDAR
