BEGIN:VCALENDAR
VERSION:2.0
CALSCALE:GREGORIAN
PRODID:-//Diputació de Barcelona//DibaCMS//EN
BEGIN:VEVENT
UID:4087
DTSTAMP:20260421T022248
DTSTART:20250117T000000
DTEND:20250118T000000
SUMMARY:Dia Mundial de la Malaltia de Perthes
LOCATION:
METHOD:PUBLISH
X-WR-CALNAME:st.llorensh@ajhortons.cat
X-WR-TIMEZONE:Europe/Madrid
DESCRIPTION:La façana de l’edifici de l’Ajuntament s’il·luminarà, de color verd.

URI:https://www.ajhortons.cat/actualitat/agenda/dia-mundial-de-la-malaltia-de-perthes.html
CLASS:PUBLIC
END:VEVENT
END:VCALENDAR
