BEGIN:VCALENDAR
VERSION:2.0
CALSCALE:GREGORIAN
PRODID:-//Diputació de Barcelona//DibaCMS//EN
BEGIN:VEVENT
UID:4090
DTSTAMP:20260421T030342
DTSTART:20250212T200000
DTEND:20250212T213000
SUMMARY:Club de lectura 
LOCATION:
METHOD:PUBLISH
X-WR-CALNAME:st.llorensh@ajhortons.cat
X-WR-TIMEZONE:Europe/Madrid
DESCRIPTION:
URI:https://www.ajhortons.cat/actualitat/agenda/4090-club-de-lectura-.html
CLASS:PUBLIC
END:VEVENT
END:VCALENDAR
