BEGIN:VCALENDAR
VERSION:2.0
CALSCALE:GREGORIAN
PRODID:-//Diputació de Barcelona//DibaCMS//EN
BEGIN:VEVENT
UID:4093
DTSTAMP:20260421T042727
DTSTART:20250127T010000
DTEND:20250207T000000
SUMMARY:Amb motiu de les obres de millora de la xarxa d'aigües municipal, queda prohibit estacionar als següents carrers i els dies següents: - duplicat
LOCATION:AV. Catalunya 
METHOD:PUBLISH
X-WR-CALNAME:st.llorensh@ajhortons.cat
X-WR-TIMEZONE:Europe/Madrid
DESCRIPTION:
URI:https://www.ajhortons.cat/actualitat/agenda/amb-motiu-de-les-obres-de-millora-de-la-xarxa-daigues-municipal-queda-prohibit-estacionar-als-seguents-carrers-i-els-dies-seguents-duplicat.html
CLASS:PUBLIC
END:VEVENT
END:VCALENDAR
