BEGIN:VCALENDAR
VERSION:2.0
CALSCALE:GREGORIAN
PRODID:-//Diputació de Barcelona//DibaCMS//EN
BEGIN:VEVENT
UID:4094
DTSTAMP:20260421T025821
DTSTART:20250213T090000
DTEND:20250213T100000
SUMMARY:Banca mòbil: CaixaBank -  
LOCATION:Carrer Generalitat,47 
METHOD:PUBLISH
X-WR-CALNAME:st.llorensh@ajhortons.cat
X-WR-TIMEZONE:Europe/Madrid
DESCRIPTION:
URI:https://www.ajhortons.cat/actualitat/agenda/4094-banca-mobil-caixabank-.html
CLASS:PUBLIC
END:VEVENT
END:VCALENDAR
