BEGIN:VCALENDAR
VERSION:2.0
CALSCALE:GREGORIAN
PRODID:-//Diputació de Barcelona//DibaCMS//EN
BEGIN:VEVENT
UID:4100
DTSTAMP:20260420T022334
DTSTART:20220921T010000
DTEND:20220921T235900
SUMMARY:Dia Mundial de l'Alzheimer  - duplicat
LOCATION:
METHOD:PUBLISH
X-WR-CALNAME:st.llorensh@ajhortons.cat
X-WR-TIMEZONE:Europe/Madrid
DESCRIPTION:
URI:https://www.ajhortons.cat/actualitat/agenda/dia-mundial-de-lalzheimer-duplicat.html
CLASS:PUBLIC
END:VEVENT
END:VCALENDAR
