BEGIN:VCALENDAR
VERSION:2.0
CALSCALE:GREGORIAN
PRODID:-//Diputació de Barcelona//DibaCMS//EN
BEGIN:VEVENT
UID:4101
DTSTAMP:20260421T030051
DTSTART:20250130T000000
DTEND:20250130T000000
SUMMARY:Dia Escolar de la No-Violència i la PAU (DENIP)
LOCATION:
METHOD:PUBLISH
X-WR-CALNAME:st.llorensh@ajhortons.cat
X-WR-TIMEZONE:Europe/Madrid
DESCRIPTION:La façana de l’edifici de l’Ajuntament s’il·luminarà, de color blanc.

URI:https://www.ajhortons.cat/actualitat/agenda/dia-escolar-de-la-no-violencia-i-la-pau-denip.html
CLASS:PUBLIC
END:VEVENT
END:VCALENDAR
