BEGIN:VCALENDAR
VERSION:2.0
CALSCALE:GREGORIAN
PRODID:-//Diputació de Barcelona//DibaCMS//EN
BEGIN:VEVENT
UID:4102
DTSTAMP:20260421T030036
DTSTART:20250131T000000
DTEND:20250201T160000
SUMMARY:AVÍS : Batuda de caça 
LOCATION:
METHOD:PUBLISH
X-WR-CALNAME:st.llorensh@ajhortons.cat
X-WR-TIMEZONE:Europe/Madrid
DESCRIPTION:
URI:https://www.ajhortons.cat/actualitat/agenda/avis--batuda-de-caca-.html
CLASS:PUBLIC
END:VEVENT
END:VCALENDAR
