BEGIN:VCALENDAR
VERSION:2.0
CALSCALE:GREGORIAN
PRODID:-//Diputació de Barcelona//DibaCMS//EN
BEGIN:VEVENT
UID:4190
DTSTAMP:20260421T030322
DTSTART:20250205T183000
DTEND:20250205T193000
SUMMARY:Ple municipal  
LOCATION:Major, 36 08791 Sant Llorenç d'Hortons
METHOD:PUBLISH
X-WR-CALNAME:st.llorensh@ajhortons.cat
X-WR-TIMEZONE:Europe/Madrid
DESCRIPTION:
URI:https://www.ajhortons.cat/actualitat/agenda/4190-ple-municipal-.html
CLASS:PUBLIC
END:VEVENT
END:VCALENDAR
