BEGIN:VCALENDAR
VERSION:2.0
CALSCALE:GREGORIAN
PRODID:-//Diputació de Barcelona//DibaCMS//EN
BEGIN:VEVENT
UID:4217
DTSTAMP:20260420T100810
DTSTART:20230422T220000
DTEND:20230422T225500
SUMMARY:VIART - ÈRIC VINAIXA en concert (Barnasants) - duplicat
LOCATION:Major, 47 08791 Sant Llorenç d'Hortons
METHOD:PUBLISH
X-WR-CALNAME:st.llorensh@ajhortons.cat
X-WR-TIMEZONE:Europe/Madrid
DESCRIPTION:Dissabte 22 d’abril · Sala de Sant Llorenç d’Hortons · 22 h · 5 €

URI:https://www.ajhortons.cat/temes/cultura/viart-2023/agenda-viart-2023/agenda-general-viart-2023/viart-eric-vinaixa-en-concert-barnasants-duplicat.html
CLASS:PUBLIC
END:VEVENT
END:VCALENDAR
