BEGIN:VCALENDAR
VERSION:2.0
CALSCALE:GREGORIAN
PRODID:-//Diputació de Barcelona//DibaCMS//EN
BEGIN:VEVENT
UID:4229
DTSTAMP:20260424T162936
DTSTART:20260506T170000
DTEND:20260506T180000
SUMMARY:Reunió informativa del Casal d'Estiu 2026
LOCATION:
METHOD:PUBLISH
X-WR-CALNAME:st.llorensh@ajhortons.cat
X-WR-TIMEZONE:Europe/Madrid
DESCRIPTION:
URI:https://www.ajhortons.cat/actualitat/agenda/reunio-informativa-del-casal-destiu-2026.html
CLASS:PUBLIC
END:VEVENT
END:VCALENDAR
