BEGIN:VCALENDAR
VERSION:2.0
CALSCALE:GREGORIAN
PRODID:-//Diputació de Barcelona//DibaCMS//EN
BEGIN:VEVENT
UID:4237
DTSTAMP:20260421T103844
DTSTART:20250508T000000
DTEND:20250522T000000
SUMMARY:Preinscripció 2025-26 a l'Escola bressol Els Gotims
LOCATION:
METHOD:PUBLISH
X-WR-CALNAME:st.llorensh@ajhortons.cat
X-WR-TIMEZONE:Europe/Madrid
DESCRIPTION:Del 8 al 22 de maig de 2025

URI:https://www.ajhortons.cat/actualitat/agenda/preinscripcio-2025-26-a-lescola-bressol-els-gotims.html
CLASS:PUBLIC
END:VEVENT
END:VCALENDAR
