BEGIN:VCALENDAR
VERSION:2.0
CALSCALE:GREGORIAN
PRODID:-//Diputació de Barcelona//DibaCMS//EN
BEGIN:VEVENT
UID:4487
DTSTAMP:20260423T165619
DTSTART:20260429T100000
DTEND:20260430T190000
SUMMARY:JORNADA D’OCUPACIÓ – GIRA FEINA 45+ | ACTIVEM LA COMARCA!
LOCATION:
METHOD:PUBLISH
X-WR-CALNAME:st.llorensh@ajhortons.cat
X-WR-TIMEZONE:Europe/Madrid
DESCRIPTION:
URI:https://www.ajhortons.cat/actualitat/agenda/jornada-docupacio--gira-feina-45--activem-la-comarca.html
CLASS:PUBLIC
END:VEVENT
END:VCALENDAR
