BEGIN:VCALENDAR
VERSION:2.0
CALSCALE:GREGORIAN
PRODID:-//Diputació de Barcelona//DibaCMS//EN
BEGIN:VEVENT
UID:4488
DTSTAMP:20260423T170417
DTSTART:20260429T084500
DTEND:20260529T103000
SUMMARY:Banca Mòbil – CaixaBank 
LOCATION:
METHOD:PUBLISH
X-WR-CALNAME:st.llorensh@ajhortons.cat
X-WR-TIMEZONE:Europe/Madrid
DESCRIPTION:
URI:https://www.ajhortons.cat/actualitat/agenda/banca-mobil--caixabank-.html
CLASS:PUBLIC
END:VEVENT
END:VCALENDAR
